BEGIN:VCALENDAR
VERSION:2.0
PRODID:-//hacksw/handcal//NONSGML v1.0//EN
CALSCALE:GREGORIAN
BEGIN:VEVENT
DTEND:20070721T110000Z
UID:69e859dc7e33c
DTSTAMP:20260422T061716Z
LOCATION:27578 Bremerhaven
DESCRIPTION:
URL;VALUE=URI:
SUMMARY:City Marathon Bremerhaven
DTSTART:20070720T230000Z
END:VEVENT
END:VCALENDAR
An internal server error occurred.