BEGIN:VCALENDAR
VERSION:2.0
PRODID:-//hacksw/handcal//NONSGML v1.0//EN
CALSCALE:GREGORIAN
BEGIN:VEVENT
DTEND:20070616T170000Z
UID:69e7701b6bb93
DTSTAMP:20260421T133955Z
LOCATION:78532 Tuttlingen
DESCRIPTION:
URL;VALUE=URI:
SUMMARY:Run und Fun Tuttlingen
DTSTART:20070615T230000Z
END:VEVENT
END:VCALENDAR
An internal server error occurred.