BEGIN:VCALENDAR
VERSION:2.0
PRODID:-//hacksw/handcal//NONSGML v1.0//EN
CALSCALE:GREGORIAN
BEGIN:VEVENT
DTEND:20070610T090000Z
UID:69e6c9ec0b933
DTSTAMP:20260421T015052Z
LOCATION:51371 Leverkusen
DESCRIPTION:
URL;VALUE=URI:
SUMMARY:Leverkusen Halbmarathon
DTSTART:20070609T230000Z
END:VEVENT
END:VCALENDAR
An internal server error occurred.