BEGIN:VCALENDAR
VERSION:2.0
PRODID:-//hacksw/handcal//NONSGML v1.0//EN
CALSCALE:GREGORIAN
BEGIN:VEVENT
DTEND:20070721T153000Z
UID:69e859da7b0a6
DTSTAMP:20260422T061714Z
LOCATION:4407 Steyr-Gleink
DESCRIPTION:NEU: Der Teamlauf !  
  
Ein Team besteht aus drei LäuferInnen\, wobei das Geschlecht und das Alter egal sind. Mutter > Vater > Kind / Großvater > Großmutter > Enkerl / Vereine oder Firmenteams. Egal wie die Teams zusammengesetzt sind\, jeder Läufer muss eine Runde des Laufes (2650m) bewältigen\, alle Läufer starten gemeinsam.

Das Siegerteam wird wie folgt ermittelt:
Die Laufzeiten der drei Teammitglieder werden addiert. Aus den Laufzeiten des schnellsten und des langsamsten Teams wird der Mittelwert errechnet. Sieger ist das Team\, das der Durchschnittszeit am nächsten kommt. 

Bei diesem Bewerb geht es nicht um Schnelligkeit\, sondern rein um die Freude am Laufen\, um einmal Rennluft zu schnuppern unter dem Motto "dabei sein ist alles". 

URL;VALUE=URI:
SUMMARY:3. Gleinker Ortslauf
DTSTART:20070720T230000Z
END:VEVENT
END:VCALENDAR
An internal server error occurred.