BEGIN:VCALENDAR
VERSION:2.0
PRODID:-//hacksw/handcal//NONSGML v1.0//EN
CALSCALE:GREGORIAN
BEGIN:VEVENT
DTEND:20070603T170000Z
UID:69e6c9ec7a202
DTSTAMP:20260421T015052Z
LOCATION:83646 Bad Tölz
DESCRIPTION:
URL;VALUE=URI:
SUMMARY:Tölzer Triathlon
DTSTART:20070602T230000Z
END:VEVENT
END:VCALENDAR
An internal server error occurred.