BEGIN:VCALENDAR
VERSION:2.0
PRODID:-//hacksw/handcal//NONSGML v1.0//EN
CALSCALE:GREGORIAN
BEGIN:VEVENT
DTEND:20070512T150000Z
UID:69e9adb509b86
DTSTAMP:20260423T062717Z
LOCATION:6150 Brenner
DESCRIPTION:Im Rahmen der EXPOBRENNER (10. - 13. Mai 2007) betreibt der ASV Laufzentrum Wipptal gemeinsam mit den Organisatoren des TIROL SPEED MARATHON einen Infostand zum Laufen generell und vor allem zum Tirol Speed Marathon am 9. Juni 2007. 
Im Rahmen der Veranstaltung wird auch ein 24 Stunden Weltrekordversuch gestartet. Derzeit liegt der Welrekord bei 397 km in 24 Stunden\, erlaufen von 24 Läufern die jeweils eine Stunde lang laufen. 


URL;VALUE=URI:
SUMMARY:24 h Lauf - Weltrekordversuch
DTSTART:20070511T230000Z
END:VEVENT
END:VCALENDAR
An internal server error occurred.