BEGIN:VCALENDAR
VERSION:2.0
PRODID:-//hacksw/handcal//NONSGML v1.0//EN
CALSCALE:GREGORIAN
BEGIN:VEVENT
DTEND:20070616T080000Z
UID:69e78fc437991
DTSTAMP:20260421T155500Z
LOCATION:1020 Wien-Prater
DESCRIPTION:
URL;VALUE=URI:
SUMMARY:5. Austria Skate Marathon 
DTSTART:20070615T230000Z
END:VEVENT
END:VCALENDAR
An internal server error occurred.