BEGIN:VCALENDAR
VERSION:2.0
PRODID:-//hacksw/handcal//NONSGML v1.0//EN
CALSCALE:GREGORIAN
BEGIN:VEVENT
DTEND:20070615T100000Z
UID:69e6f931bd005
DTSTAMP:20260421T051233Z
LOCATION:1020 Wien
DESCRIPTION:
URL;VALUE=URI:
SUMMARY:Pago Junior Cup 
DTSTART:20070614T230000Z
END:VEVENT
END:VCALENDAR
An internal server error occurred.