BEGIN:VCALENDAR
VERSION:2.0
PRODID:-//hacksw/handcal//NONSGML v1.0//EN
CALSCALE:GREGORIAN
BEGIN:VEVENT
DTEND:20070811T170000Z
UID:69e863581daac
DTSTAMP:20260422T065744Z
LOCATION:47803 Krefeld
DESCRIPTION:Die Streckenführung verläuft auf einem 1\,5 Kilometer langen Rundkurs durch die Krefelder Innenstadt. Die Veranstaltungsfläche befindet sich mit der glasüberdachten Königstraße\, dem neu errichteten Stadtmarkt und dem\, vom Münchner Olympia-Architekten Günter Behnisch entworfenen „Behnischbau“\, im repräsentativen Krefelder Umfeld.  Der zentrierte Streckenradius verspricht eine hohe Publikumsdichte\, sowie eine starke Sportlerpräsenz für die Zuschauer. Eine Bühne\, Gastronomie\, diverse Aktions- und Präsentationsflächen/ Läufermesse\, werden auf dem Stadtmarkt\, sowie um den Behnischbau herum errichtet. 
URL;VALUE=URI:
SUMMARY:Nacht der Sportler
DTSTART:20070810T230000Z
END:VEVENT
END:VCALENDAR
An internal server error occurred.