BEGIN:VCALENDAR
VERSION:2.0
PRODID:-//hacksw/handcal//NONSGML v1.0//EN
CALSCALE:GREGORIAN
BEGIN:VEVENT
DTEND:20070714T040000Z
UID:69e9a36454c87
DTSTAMP:20260423T054316Z
LOCATION:4822 Bad Goisern
DESCRIPTION:Die Salzkammergut Trophy - Österreichs größter MTB Marathon - feiert am 14. Juli 2007 ihr zehnjähriges Jubiläum. Im Vorjahr nahmen über 2.200 Teilnehmer aus 25 Nationen eine der vier Distanzen in Angriff. 
URL;VALUE=URI:
SUMMARY:Salzkammergut Mountainbike Trophy
DTSTART:20070713T230000Z
END:VEVENT
END:VCALENDAR
An internal server error occurred.