BEGIN:VCALENDAR
VERSION:2.0
PRODID:-//hacksw/handcal//NONSGML v1.0//EN
CALSCALE:GREGORIAN
BEGIN:VEVENT
DTEND:20070526T150000Z
UID:69e566f11e264
DTSTAMP:20260420T003617Z
LOCATION:83454 Anger
DESCRIPTION:
URL;VALUE=URI:
SUMMARY:23. Stoißer Alm Berglauf
DTSTART:20070525T230000Z
END:VEVENT
END:VCALENDAR
An internal server error occurred.