BEGIN:VCALENDAR
VERSION:2.0
PRODID:-//hacksw/handcal//NONSGML v1.0//EN
CALSCALE:GREGORIAN
BEGIN:VEVENT
DTEND:20070616T160000Z
UID:69e720fc20db5
DTSTAMP:20260421T080220Z
LOCATION:8580 Köflach
DESCRIPTION:
URL;VALUE=URI:
SUMMARY:6. Int. Lipizzanerheimatlauf
DTSTART:20070615T230000Z
END:VEVENT
END:VCALENDAR
An internal server error occurred.