BEGIN:VCALENDAR
VERSION:2.0
PRODID:-//hacksw/handcal//NONSGML v1.0//EN
CALSCALE:GREGORIAN
BEGIN:VEVENT
DTEND:20070819T090000Z
UID:69e92cb7bf58e
DTSTAMP:20260422T211655Z
LOCATION:6281 Gerlos
DESCRIPTION:Die 12\,6 km lange und ansprechende Strecke führt entlang des südlichen Ufers des Durlaßbodenspeichers an der Bärschlagalm vorbei\, weiter rund um den Finkausee und wieder zurück über die Bärschlagalm in Richtung Dammkrone.
URL;VALUE=URI:
SUMMARY:18. Gerloser Seerundlauf
DTSTART:20070818T230000Z
END:VEVENT
END:VCALENDAR
An internal server error occurred.