BEGIN:VCALENDAR
VERSION:2.0
PRODID:-//hacksw/handcal//NONSGML v1.0//EN
CALSCALE:GREGORIAN
BEGIN:VEVENT
DTEND:20070515T171500Z
UID:69e5066c2b724
DTSTAMP:20260419T174428Z
LOCATION:9170 Ferlach
DESCRIPTION:
URL;VALUE=URI:
SUMMARY:5. Kärntner Wasserlauf
DTSTART:20070514T230000Z
END:VEVENT
END:VCALENDAR
An internal server error occurred.