BEGIN:VCALENDAR
VERSION:2.0
PRODID:-//hacksw/handcal//NONSGML v1.0//EN
CALSCALE:GREGORIAN
BEGIN:VEVENT
DTEND:20070902T110000Z
UID:69e92cb82f63c
DTSTAMP:20260422T211656Z
LOCATION:8785 Hohentauern
DESCRIPTION:Kinder und Jugendlauf beginnt um 10 Uhr
URL;VALUE=URI:
SUMMARY:Keltenberglauf Hohentauern
DTSTART:20070901T230000Z
END:VEVENT
END:VCALENDAR
An internal server error occurred.