BEGIN:VCALENDAR
VERSION:2.0
PRODID:-//hacksw/handcal//NONSGML v1.0//EN
CALSCALE:GREGORIAN
BEGIN:VEVENT
DTEND:20070610T080000Z
UID:69e720fbe8d6d
DTSTAMP:20260421T080219Z
LOCATION:4222 Luftenberg - Statzing
DESCRIPTION:Nordic Walking wird als geführte Wanderung organisiert.
URL;VALUE=URI:
SUMMARY:15. Luftenberger Donauufer Halbmarathon
DTSTART:20070609T230000Z
END:VEVENT
END:VCALENDAR
An internal server error occurred.