BEGIN:VCALENDAR
VERSION:2.0
PRODID:-//hacksw/handcal//NONSGML v1.0//EN
CALSCALE:GREGORIAN
BEGIN:VEVENT
DTEND:20070902T080000Z
UID:69e93d2e1f78c
DTSTAMP:20260422T222710Z
LOCATION:28759 Bremen
DESCRIPTION:Start/Ziel findet man auf dem Campus der Jacobs University Bremen (JUB) in Bremen-Grohn.

URL;VALUE=URI:
SUMMARY:Halbmarathon in Lesmona
DTSTART:20070901T230000Z
END:VEVENT
END:VCALENDAR
An internal server error occurred.