BEGIN:VCALENDAR
VERSION:2.0
PRODID:-//hacksw/handcal//NONSGML v1.0//EN
CALSCALE:GREGORIAN
BEGIN:VEVENT
DTEND:20070617T083000Z
UID:69e7701af1117
DTSTAMP:20260421T133954Z
LOCATION:7350 Oberpullendorf
DESCRIPTION:Nachwuchsläufe\, fun-run "Krebslerlauf"\, Hauptlauf\, Teamlauf ... Tonpokale !
URL;VALUE=URI:
SUMMARY:Stadtlauf Oberpullendorf
DTSTART:20070616T230000Z
END:VEVENT
END:VCALENDAR
An internal server error occurred.