BEGIN:VCALENDAR
VERSION:2.0
PRODID:-//hacksw/handcal//NONSGML v1.0//EN
CALSCALE:GREGORIAN
BEGIN:VEVENT
DTEND:20070501T101500Z
UID:69e9bcd76470d
DTSTAMP:20260423T073151Z
LOCATION:4048 Puchenau
DESCRIPTION:
URL;VALUE=URI:
SUMMARY:4. Puchenauer Neue Heimat Gartenstadtlauf
DTSTART:20070430T230000Z
END:VEVENT
END:VCALENDAR
An internal server error occurred.