BEGIN:VCALENDAR
VERSION:2.0
PRODID:-//hacksw/handcal//NONSGML v1.0//EN
CALSCALE:GREGORIAN
BEGIN:VEVENT
DTEND:20070609T154500Z
UID:69e68f08e160b
DTSTAMP:20260420T213936Z
LOCATION:28757 Bremen-Vegesack
DESCRIPTION:Eine Laufrunde mißt 2\,5 Km\, das Streckenprofil mißt 20 Höhenmeter.

URL;VALUE=URI:
SUMMARY:22. Vegesacker Citylauf 
DTSTART:20070608T230000Z
END:VEVENT
END:VCALENDAR
An internal server error occurred.