BEGIN:VCALENDAR
VERSION:2.0
PRODID:-//hacksw/handcal//NONSGML v1.0//EN
CALSCALE:GREGORIAN
BEGIN:VEVENT
DTEND:20070812T060000Z
UID:69e855e7dca09
DTSTAMP:20260422T060023Z
LOCATION:96317 Neuses bei Kronach
DESCRIPTION:Der ultimative Frankenwald-Radmarathon geht wieder an den Start. 5 Strecken stehen zur Auswahl von 50 - 100 - 150 - 200 - 250 km. mit bis zu 3640 hm.
URL;VALUE=URI:
SUMMARY:Frankenwald-Radmarathon.de
DTSTART:20070811T230000Z
END:VEVENT
END:VCALENDAR
An internal server error occurred.