BEGIN:VCALENDAR
VERSION:2.0
PRODID:-//hacksw/handcal//NONSGML v1.0//EN
CALSCALE:GREGORIAN
BEGIN:VEVENT
DTEND:20070513T230000Z
UID:69e59b5542931
DTSTAMP:20260420T041949Z
LOCATION:1010 Wien Wiener Stadtpark 
DESCRIPTION:Prominente laufen für Go for Gold 
URL;VALUE=URI:
SUMMARY:Go for Gold Championslauf
DTSTART:20070513T230000Z
END:VEVENT
END:VCALENDAR
An internal server error occurred.