BEGIN:VCALENDAR
VERSION:2.0
PRODID:-//hacksw/handcal//NONSGML v1.0//EN
CALSCALE:GREGORIAN
BEGIN:VEVENT
DTEND:20070610T083000Z
UID:69e7701bf0f4a
DTSTAMP:20260421T133955Z
LOCATION:36433 Bad Salzungen/Behringen/Hammelburg
DESCRIPTION:Lauf/NW und Radveranstaltung
URL;VALUE=URI:
SUMMARY:Town und Country Pummpälz
DTSTART:20070609T230000Z
END:VEVENT
END:VCALENDAR
An internal server error occurred.