BEGIN:VCALENDAR
VERSION:2.0
PRODID:-//hacksw/handcal//NONSGML v1.0//EN
CALSCALE:GREGORIAN
BEGIN:VEVENT
DTEND:20070826T090000Z
UID:69e9884eace0a
DTSTAMP:20260423T034742Z
LOCATION:6764 Lech
DESCRIPTION:
URL;VALUE=URI:
SUMMARY:Welltain Höhenhalbmarathon
DTSTART:20070825T230000Z
END:VEVENT
END:VCALENDAR
An internal server error occurred.