BEGIN:VCALENDAR
VERSION:2.0
PRODID:-//hacksw/handcal//NONSGML v1.0//EN
CALSCALE:GREGORIAN
BEGIN:VEVENT
DTEND:20070721T090000Z
UID:69e8635833b7a
DTSTAMP:20260422T065744Z
LOCATION:6764 Lech
DESCRIPTION:
URL;VALUE=URI:
SUMMARY:10. Lecher Gipfeltriathlon
DTSTART:20070720T230000Z
END:VEVENT
END:VCALENDAR
An internal server error occurred.