BEGIN:VCALENDAR
VERSION:2.0
PRODID:-//hacksw/handcal//NONSGML v1.0//EN
CALSCALE:GREGORIAN
BEGIN:VEVENT
DTEND:20070721T130000Z
UID:69e8b713aa42a
DTSTAMP:20260422T125459Z
LOCATION:6370 Kitzbühel
DESCRIPTION:Sprint-Triathlon: 1. Welle 14:00Uhr\, 2. Welle 16:00 Uhr
Tri Kitz Kindertriathlon Start 9:00Uhr
Distanz je nach Altersklasse: 25/400/200m bis 500/6000/3000m
URL;VALUE=URI:
SUMMARY:Sprint Triathlon Kitzbühel
DTSTART:20070720T230000Z
END:VEVENT
END:VCALENDAR
An internal server error occurred.