BEGIN:VCALENDAR
VERSION:2.0
PRODID:-//hacksw/handcal//NONSGML v1.0//EN
CALSCALE:GREGORIAN
BEGIN:VEVENT
DTEND:20070623T060000Z
UID:69e75d61aadd7
DTSTAMP:20260421T122001Z
LOCATION:3240 Mank
DESCRIPTION:Früher der 6 Stundenlauf von Mank\, heuer erstmalig Intern. 50km Lauf in Mank
URL;VALUE=URI:
SUMMARY:Int. 50 km Lauf in Mank
DTSTART:20070622T230000Z
END:VEVENT
END:VCALENDAR
An internal server error occurred.