BEGIN:VCALENDAR
VERSION:2.0
PRODID:-//hacksw/handcal//NONSGML v1.0//EN
CALSCALE:GREGORIAN
BEGIN:VEVENT
DTEND:20070603T080000Z
UID:69e684c446485
DTSTAMP:20260420T205548Z
LOCATION:63128 Dietzenbach
DESCRIPTION:
URL;VALUE=URI:
SUMMARY:32. Steinberger Volkslauf 
DTSTART:20070602T230000Z
END:VEVENT
END:VCALENDAR
An internal server error occurred.