BEGIN:VCALENDAR
VERSION:2.0
PRODID:-//hacksw/handcal//NONSGML v1.0//EN
CALSCALE:GREGORIAN
BEGIN:VEVENT
DTEND:20070513T090000Z
UID:69e5e22149912
DTSTAMP:20260420T092153Z
LOCATION:4924 Bad Liebenwerda
DESCRIPTION:Lauf im Mitteldeutschen Cup\, Brandenburg Cup\, Lausitzlaufserie\,Envia Cup "Fit im Verein" und derElbe- Elsterlaufserie
URL;VALUE=URI:
SUMMARY:Elsterlauf
DTSTART:20070512T230000Z
END:VEVENT
END:VCALENDAR
An internal server error occurred.