BEGIN:VCALENDAR
VERSION:2.0
PRODID:-//hacksw/handcal//NONSGML v1.0//EN
CALSCALE:GREGORIAN
BEGIN:VEVENT
DTEND:20070824T163000Z
UID:69e972bc2704a
DTSTAMP:20260423T021540Z
LOCATION:51465 Bergisch Gladbach
DESCRIPTION:2. Tag der Serie - auch Kinder- und Schülerläufe an allen drei Tagen jeweils donnerstags
URL;VALUE=URI:
SUMMARY:25. Bergisch Gladbacher Bahnlaufserie
DTSTART:20070823T230000Z
END:VEVENT
END:VCALENDAR
An internal server error occurred.