BEGIN:VCALENDAR
VERSION:2.0
PRODID:-//hacksw/handcal//NONSGML v1.0//EN
CALSCALE:GREGORIAN
BEGIN:VEVENT
DTEND:20070816T163000Z
UID:69e9adb229960
DTSTAMP:20260423T062714Z
LOCATION:51465 Bergisch Gladbach
DESCRIPTION:die Jubiläumsausgabe des BLS-Klassikers am 16./24./31. August\; Mittelstrecken- (800-1000-1500 m) und Langstreckenserie (3000/5000/10000 m) für alle Leistungs- und Altersklassen\; jeweils über 100 Starter\; Einteilung nach festen Zeiten\; ideale Marathonvorbereitung jeweils donnerstags

URL;VALUE=URI:
SUMMARY:25. Bergisch Gladbacher Bahnlaufserie
DTSTART:20070815T230000Z
END:VEVENT
END:VCALENDAR
An internal server error occurred.