BEGIN:VCALENDAR
VERSION:2.0
PRODID:-//hacksw/handcal//NONSGML v1.0//EN
CALSCALE:GREGORIAN
BEGIN:VEVENT
DTEND:20071230T230000Z
UID:69ed392a7660c
DTSTAMP:20260425T225906Z
LOCATION:0 
DESCRIPTION:
URL;VALUE=URI:
SUMMARY:28. Int. Silvesterlauf um den Cup der Kreissparkasse Ahrweiler
DTSTART:20071230T230000Z
END:VEVENT
END:VCALENDAR
An internal server error occurred.