BEGIN:VCALENDAR
VERSION:2.0
PRODID:-//hacksw/handcal//NONSGML v1.0//EN
CALSCALE:GREGORIAN
BEGIN:VEVENT
DTEND:20071215T230000Z
UID:69ed0ba11207d
DTSTAMP:20260425T194449Z
LOCATION:0 
DESCRIPTION:
URL;VALUE=URI:
SUMMARY: Syke - Weyher Cross-Serie  27. Country - Lauf
DTSTART:20071215T230000Z
END:VEVENT
END:VCALENDAR
An internal server error occurred.