BEGIN:VCALENDAR
VERSION:2.0
PRODID:-//hacksw/handcal//NONSGML v1.0//EN
CALSCALE:GREGORIAN
BEGIN:VEVENT
DTEND:20071215T230000Z
UID:69ed845fd4580
DTSTAMP:20260426T041959Z
LOCATION:0 
DESCRIPTION:
URL;VALUE=URI:
SUMMARY:15. Winterlauf- und Wanderserie 100 km um den Jaderberger Zoo
DTSTART:20071215T230000Z
END:VEVENT
END:VCALENDAR
An internal server error occurred.