BEGIN:VCALENDAR
VERSION:2.0
PRODID:-//hacksw/handcal//NONSGML v1.0//EN
CALSCALE:GREGORIAN
BEGIN:VEVENT
DTEND:20071215T230000Z
UID:69ec15780d189
DTSTAMP:20260425T021432Z
LOCATION:0 
DESCRIPTION:
URL;VALUE=URI:
SUMMARY:Winterlauf-Serie- 2.Lauf- 5km-Rundkurs - ein- bis viermal durchlaufbar
DTSTART:20071215T230000Z
END:VEVENT
END:VCALENDAR
An internal server error occurred.