BEGIN:VCALENDAR
VERSION:2.0
PRODID:-//hacksw/handcal//NONSGML v1.0//EN
CALSCALE:GREGORIAN
BEGIN:VEVENT
DTEND:20071215T230000Z
UID:69ed8249d0c8d
DTSTAMP:20260426T041105Z
LOCATION:0 
DESCRIPTION:
URL;VALUE=URI:
SUMMARY:31. Bad Waldsee - Oberschwäbische Crosslauf-Serie 2007/2008 - 1. Lauf 
DTSTART:20071215T230000Z
END:VEVENT
END:VCALENDAR
An internal server error occurred.