BEGIN:VCALENDAR
VERSION:2.0
PRODID:-//hacksw/handcal//NONSGML v1.0//EN
CALSCALE:GREGORIAN
BEGIN:VEVENT
DTEND:20071208T230000Z
UID:69ebd6cc8f2ea
DTSTAMP:20260424T214708Z
LOCATION:0 
DESCRIPTION:
URL;VALUE=URI:
SUMMARY:Syke-Weyher Cross-Serie- 64. Friedeholz-Crosslauf
DTSTART:20071208T230000Z
END:VEVENT
END:VCALENDAR
An internal server error occurred.