BEGIN:VCALENDAR
VERSION:2.0
PRODID:-//hacksw/handcal//NONSGML v1.0//EN
CALSCALE:GREGORIAN
BEGIN:VEVENT
DTEND:20071201T230000Z
UID:69ed412e229a1
DTSTAMP:20260425T233318Z
LOCATION:0 
DESCRIPTION:
URL;VALUE=URI:
SUMMARY:30. landesoff.  Nikolaus-Waldlauf mit Grenzland Laufcup
DTSTART:20071201T230000Z
END:VEVENT
END:VCALENDAR
An internal server error occurred.