BEGIN:VCALENDAR
VERSION:2.0
PRODID:-//hacksw/handcal//NONSGML v1.0//EN
CALSCALE:GREGORIAN
BEGIN:VEVENT
DTEND:20071201T230000Z
UID:69ebe84c7fe01
DTSTAMP:20260424T230148Z
LOCATION:0 
DESCRIPTION:
URL;VALUE=URI:
SUMMARY:31. Bank 1 Saar-Neunkirchen-Volksbank-Straßenlauf
DTSTART:20071201T230000Z
END:VEVENT
END:VCALENDAR
An internal server error occurred.