BEGIN:VCALENDAR
VERSION:2.0
PRODID:-//hacksw/handcal//NONSGML v1.0//EN
CALSCALE:GREGORIAN
BEGIN:VEVENT
DTEND:20071130T230000Z
UID:69ed6bd26fe4b
DTSTAMP:20260426T023514Z
LOCATION:0 
DESCRIPTION:
URL;VALUE=URI:
SUMMARY:25. Winterstraßenlauf- Halbmarathon und Schülerläufe 2-5km und 600m
DTSTART:20071130T230000Z
END:VEVENT
END:VCALENDAR
An internal server error occurred.