BEGIN:VCALENDAR
VERSION:2.0
PRODID:-//hacksw/handcal//NONSGML v1.0//EN
CALSCALE:GREGORIAN
BEGIN:VEVENT
DTEND:20071124T230000Z
UID:69ed525dcc8da
DTSTAMP:20260426T004637Z
LOCATION:0 
DESCRIPTION:
URL;VALUE=URI:
SUMMARY:Syke-Weyher Cross-Fünfer- 18. Sandberg-Crosslauf
DTSTART:20071124T230000Z
END:VEVENT
END:VCALENDAR
An internal server error occurred.