BEGIN:VCALENDAR
VERSION:2.0
PRODID:-//hacksw/handcal//NONSGML v1.0//EN
CALSCALE:GREGORIAN
BEGIN:VEVENT
DTEND:20071117T230000Z
UID:69ece2c472397
DTSTAMP:20260425T165028Z
LOCATION:0 
DESCRIPTION:
URL;VALUE=URI:
SUMMARY:15. Winterlaufserie des TSV Ippinghausen- 1. Lauf
DTSTART:20071117T230000Z
END:VEVENT
END:VCALENDAR
An internal server error occurred.