BEGIN:VCALENDAR
VERSION:2.0
PRODID:-//hacksw/handcal//NONSGML v1.0//EN
CALSCALE:GREGORIAN
BEGIN:VEVENT
DTEND:20071116T230000Z
UID:69ed9392876df
DTSTAMP:20260426T052450Z
LOCATION:0 
DESCRIPTION:
URL;VALUE=URI:
SUMMARY:5. Kollbachtal Berglauf Benefizlauf für die Kinderklinik Schömberg
DTSTART:20071116T230000Z
END:VEVENT
END:VCALENDAR
An internal server error occurred.