BEGIN:VCALENDAR
VERSION:2.0
PRODID:-//hacksw/handcal//NONSGML v1.0//EN
CALSCALE:GREGORIAN
BEGIN:VEVENT
DTEND:20071109T230000Z
UID:69ed76dbba180
DTSTAMP:20260426T032219Z
LOCATION:0 
DESCRIPTION:
URL;VALUE=URI:
SUMMARY:25. Aalener Rohrwanglauf mit Württembergische Wald-Laufmeisterschaft
DTSTART:20071109T230000Z
END:VEVENT
END:VCALENDAR
An internal server error occurred.