BEGIN:VCALENDAR
VERSION:2.0
PRODID:-//hacksw/handcal//NONSGML v1.0//EN
CALSCALE:GREGORIAN
BEGIN:VEVENT
DTEND:20071103T230000Z
UID:69ed939619a76
DTSTAMP:20260426T052454Z
LOCATION:0 
DESCRIPTION:
URL;VALUE=URI:
SUMMARY:18. Steinheimer Geologenlauf mit Schülerläufen und Walking durch das Steinheimer Becken
DTSTART:20071103T230000Z
END:VEVENT
END:VCALENDAR
An internal server error occurred.