BEGIN:VCALENDAR
VERSION:2.0
PRODID:-//hacksw/handcal//NONSGML v1.0//EN
CALSCALE:GREGORIAN
BEGIN:VEVENT
DTEND:20071102T230000Z
UID:69ed86f92a90f
DTSTAMP:20260426T043105Z
LOCATION:0 
DESCRIPTION:
URL;VALUE=URI:
SUMMARY:Herbstlauf in Ötigheim- Walking Start 12:45- Bambini ab 14:30- 5km Start 14:45- 10km Start 15:10
DTSTART:20071102T230000Z
END:VEVENT
END:VCALENDAR
An internal server error occurred.