BEGIN:VCALENDAR
VERSION:2.0
PRODID:-//hacksw/handcal//NONSGML v1.0//EN
CALSCALE:GREGORIAN
BEGIN:VEVENT
DTEND:20071102T230000Z
UID:69ed9398737b8
DTSTAMP:20260426T052456Z
LOCATION:0 
DESCRIPTION:
URL;VALUE=URI:
SUMMARY:33. Mönchengladbacher Herbsthalbmarathon mit 10 km Lauf + WA + Wandern
DTSTART:20071102T230000Z
END:VEVENT
END:VCALENDAR
An internal server error occurred.