BEGIN:VCALENDAR
VERSION:2.0
PRODID:-//hacksw/handcal//NONSGML v1.0//EN
CALSCALE:GREGORIAN
BEGIN:VEVENT
DTEND:20071027T230000Z
UID:69ed7926526be
DTSTAMP:20260426T033206Z
LOCATION:0 
DESCRIPTION:
URL;VALUE=URI:
SUMMARY:30. Int. Pfinztallauf- Bambini u. Schülerläufe 200m/400m Start 11:15- 10km Start 10:00
DTSTART:20071027T230000Z
END:VEVENT
END:VCALENDAR
An internal server error occurred.