BEGIN:VCALENDAR
VERSION:2.0
PRODID:-//hacksw/handcal//NONSGML v1.0//EN
CALSCALE:GREGORIAN
BEGIN:VEVENT
DTEND:20071027T230000Z
UID:69ed86f75611e
DTSTAMP:20260426T043103Z
LOCATION:0 
DESCRIPTION:
URL;VALUE=URI:
SUMMARY:3. Ronny Wöstmann Crossduathlon (laufen- mtbiken- laufen)
DTSTART:20071027T230000Z
END:VEVENT
END:VCALENDAR
An internal server error occurred.