BEGIN:VCALENDAR
VERSION:2.0
PRODID:-//hacksw/handcal//NONSGML v1.0//EN
CALSCALE:GREGORIAN
BEGIN:VEVENT
DTEND:20071013T230000Z
UID:69ed845f22150
DTSTAMP:20260426T041959Z
LOCATION:0 
DESCRIPTION:
URL;VALUE=URI:
SUMMARY:3. Süwag Energie Volks- und Straßenlauf Rund um das Vitamar
DTSTART:20071013T230000Z
END:VEVENT
END:VCALENDAR
An internal server error occurred.